{"text_format":"1","workbook":"xlsx","n_sheets":2,"sheets":["Report","MeasData"],"not_rendered":{"charts":0,"images":0,"macros":1,"external_links":0,"defined_names":5,"comments":1,"pivot_tables":0},"unopened":[],"bounds":{"document_bytes":16777216,"sheet_cells":100000,"rows_first":2000,"rows_last":500,"rows_between":2000,"halvings":0,"cell_chars":16384,"cell_head_chars":4096},"cells_cut":0,"cells_raw":0,"read":"whole","date_system":"1900"}

{"sheet":"Report","index":0,"n_rows":53,"n_cols":9,"rows_kept":53,"cut":false,"hidden":false,"merged":[[4,0,4,1],[4,2,4,4],[4,5,5,6],[4,7,5,8],[5,0,5,1],[0,0,0,8],[1,0,1,8],[2,12,2,14],[3,0,3,1],[3,2,3,4],[11,0,11,1],[11,2,11,3],[11,4,11,5],[11,6,11,7],[5,2,5,4],[6,0,6,1],[6,2,6,4],[6,5,7,6],[6,7,7,8],[7,0,7,1],[7,2,7,4],[8,0,8,1],[8,2,8,4],[10,0,10,1],[10,2,10,3],[10,5,10,7],[25,12,25,14],[26,12,26,14],[33,0,33,3],[12,0,12,1],[12,2,12,3],[12,4,12,5],[12,6,12,7],[13,0,13,1],[13,2,13,3],[13,4,13,5],[13,6,13,7],[35,5,35,8],[41,0,41,3],[52,6,52,7],[14,2,14,5],[17,0,17,7],[25,0,25,5]]}
["Radcal AccuGold"]
["Radiographic QA Test Report"]
[]
["Room"]
["Address",null,null,null,null,"Date of Inspection:"]
["City"]
["State",null,null,null,null,"Performed by:"]
["Zip Code"]
["Telephone"]
[]
["MANUFACTURER:",null,null,null,"MODEL:"]
["Components",null,"Location",null,"Model Number",null,"EQUIPMENT ID#"]
["Control"]
["Tube Head"]
[]
["Technique:","kVp",{"$f":"MeasData!A3","v":116},"mA",{"$f":"MeasData!B3","v":40},"Time",{"$f":"MeasData!C3","v":500},"SID",{"$f":"MeasData!D3","v":20}]
[]
["kVp Reproducibility"]
["Indicated","Measured","Deviation"]
[{"$f":"MeasData!A3","v":116},{"$f":"MeasData!I3","v":116.5},{"$f":"IF(A20>0,(B20-A20)/A20*100,\" \")","v":0.43103448275862066}]
[{"$f":"MeasData!A4","v":116},{"$f":"MeasData!I4","v":116.5},{"$f":"IF(A21>0,(B21-A21)/A21*100,\" \")","v":0.43103448275862066},null,"kVp Avg. =",{"$f":"IF(B24 >0,AVERAGE(B20:B24),\" \")","v":116.5},null,{"$f":"IF(D24 >0,AVERAGE(D20:D24),\" \")","v":" "}]
[{"$f":"MeasData!A5","v":116},{"$f":"MeasData!I5","v":116.5},{"$f":"IF(A22>0,(B22-A22)/A22*100,\" \")","v":0.43103448275862066},null,null,null,{"$f":"IF(F23<MeasData!C23,\"PASS\",\"FAIL\")","v":"PASS"}]
[{"$f":"MeasData!A6","v":116},{"$f":"MeasData!I6","v":116.5},{"$f":"IF(A23>0,(B23-A23)/A23*100,\" \")","v":0.43103448275862066},null,"C.O.V. =",{"$f":"IF(A24>0,STDEV(B20:B24)/F21*100,\" \")","v":0}]
[{"$f":"MeasData!A7","v":116},{"$f":"MeasData!I7","v":116.5},{"$f":"IF(A24>0,(B24-A24)/A24*100,\" \")","v":0.43103448275862066}]
[]
["Dose Reproducibility (Dose in mR)"]
["Measured"]
[{"$f":"MeasData!K3","v":14},null,"Dose Avg.=",{"$f":"IF(A32>0,AVERAGE(A28:A32),\" \")","v":14},null,{"$f":"IF(C32>0,AVERAGE(C28:C32),\" \")","v":" "}]
[{"$f":"MeasData!K4","v":14},null,null,null,{"$f":"IF(D30<MeasData!C24,\"PASS\",\"FAIL\")","v":"PASS"}]
[{"$f":"MeasData!K5","v":14},null,"C.O.V. =",{"$f":"IF(A32>0,STDEV(A28:A32)/D28*100,\" \")","v":0},null,{"$f":"IF(C32>0,STDEV(C28:C32)/F28*100,\" \")","v":" "}]
[{"$f":"MeasData!K6","v":14}]
[{"$f":"MeasData!K7","v":14}]
[]
["Timer Accuracy"]
["Indicated","Measured","% Deviation","Result"]
[{"$f":"MeasData!C3","v":500},{"$f":"MeasData!G3*1000","v":500},{"$f":"IF(A36>0,ABS(A36-B36)/A36*100,\" \")","v":0},{"$f":"IF(ABS(C36)<MeasData!C25,\"PASS\",\"FAIL\")","v":"PASS"},null," "]
[{"$f":"MeasData!C4","v":500},{"$f":"MeasData!G4*1000","v":500},{"$f":"IF(A37>0,ABS(A37-B37)/A37*100,\" \")","v":0},{"$f":"IF(ABS(C37)<MeasData!C25,\"PASS\",\"FAIL\")","v":"PASS"}]
[{"$f":"MeasData!C5","v":500},{"$f":"MeasData!G5*1000","v":500},{"$f":"IF(A38>0,ABS(A38-B38)/A38*100,\" \")","v":0},{"$f":"IF(ABS(C38)<MeasData!C25,\"PASS\",\"FAIL\")","v":"PASS"}]
[{"$f":"MeasData!C6","v":500},{"$f":"MeasData!G6*1000","v":500},{"$f":"IF(A39>0,ABS(A39-B39)/A39*100,\" \")","v":0},{"$f":"IF(ABS(C39)<MeasData!C25,\"PASS\",\"FAIL\")","v":"PASS"}]
[{"$f":"MeasData!C7","v":500},{"$f":"MeasData!G7*1000","v":500},{"$f":"IF(A40>0,ABS(A40-B40)/A40*100,\" \")","v":0},{"$f":"IF(ABS(C40)<MeasData!C25,\"PASS\",\"FAIL\")","v":"PASS"}]
[]
["kVp Accuracy"]
["Indicated","Measured","% Deviation","Result"]
[{"$f":"MeasData!A8","v":116},{"$f":"MeasData!I8","v":116.5},{"$f":"IF(B44>0,(B44-A44)/B44*100,100)","v":0.42918454935622319},{"$f":"IF(A44>0,IF(ABS(C44)<MeasData!C26,\"PASS\",\"FAIL\"),\"\")","v":"PASS"}]
[{"$f":"MeasData!A9","v":116},{"$f":"MeasData!I9","v":116.5},0.42918454935622319,{"$f":"IF(A45>0,IF(ABS(C45)<MeasData!C26,\"PASS\",\"FAIL\"),\"\")","v":"PASS"}]
[{"$f":"MeasData!A10","v":116},{"$f":"MeasData!I10","v":116.5},0.42918454935622319,{"$f":"IF(A46>0,IF(ABS(C46)<MeasData!C26,\"PASS\",\"FAIL\"),\"\")","v":"PASS"}]
[{"$f":"MeasData!A11","v":116},{"$f":"MeasData!I11","v":116.5},0.42918454935622319,{"$f":"IF(A47>0,IF(ABS(C47)<MeasData!C26,\"PASS\",\"FAIL\"),\"\")","v":"PASS"}]
[{"$f":"MeasData!A12","v":116},{"$f":"MeasData!I12","v":116.5},0.42918454935622319,{"$f":"IF(A48>0,IF(ABS(C48)<MeasData!C26,\"PASS\",\"FAIL\"),\"\")","v":"PASS"}]
[{"$f":"MeasData!A13","v":116},{"$f":"MeasData!I13","v":116.5},0.42918454935622319,{"$f":"IF(A49>0,IF(ABS(C49)<MeasData!C26,\"PASS\",\"FAIL\"),\"\")","v":"PASS"}]
[{"$f":"MeasData!A14","v":116},{"$f":"MeasData!I14","v":116.5},0.42918454935622319,{"$f":"IF(A50>0,IF(ABS(C50)<MeasData!C26,\"PASS\",\"FAIL\"),\"\")","v":"PASS"}]
[{"$f":"MeasData!A15","v":116},{"$f":"MeasData!I15","v":116.5},0.42918454935622319,{"$f":"IF(A51>0,IF(ABS(C51)<MeasData!C26,\"PASS\",\"FAIL\"),\"\")","v":"PASS"}]
[{"$f":"MeasData!A16","v":116},{"$f":"MeasData!I16","v":116.5},0.42918454935622319,{"$f":"IF(A52>0,IF(ABS(C52)<MeasData!C26,\"PASS\",\"FAIL\"),\"\")","v":"PASS"}]
[{"$f":"MeasData!A17","v":116},{"$f":"MeasData!I17","v":116.5},0.42918454935622319,{"$f":"IF(A53>0,IF(ABS(C53)<MeasData!C26,\"PASS\",\"FAIL\"),\"\")","v":"PASS"}]

{"sheet":"MeasData","index":1,"n_rows":40,"n_cols":86,"rows_kept":40,"cut":false,"hidden":false,"merged":[[20,0,20,2],[0,0,0,3],[1,21,1,22],[1,6,1,7],[1,8,1,9],[1,10,1,11],[1,12,1,13],[1,14,1,15]]}
[]
["Set kVp","Set mA","Set ms","SID","Exp.","Date/Time","Duration",null,"kVp",null,"Dose",null,"Dose Rate",null,"HVL"]
[116,40,500,20,1,"2019-03-26T13:33:57.307",0.5,"s",116.5,"kV",14,"mGy",53.55,"mGy/s",4.8780000000000001,"mm",9,null,"USB",1,"","Hz","","s",null,null,"s",null,null,"Standard","Multi-Sensor","Diagnostic","General",3.7069999999999999,"mm",116.5,"kV",116.2,"kV",null,"mGy",null,null,1,null,null,1.653,"s",null,null,null,null,null,null,null,null,null,null,null,null,null,null,null,null,null,null,null,null,null,null,null,null,null,null,null,null,null,null,null,null,null,null,116.5,"kV",null,"43-0001"]
[{"$f":"$A$3","v":116},{"$f":"$B$3","v":40},{"$f":"$C$3","v":500},{"$f":"$D$3","v":20},2,"2019-03-26T13:34:49.821",0.5,"s",116.5,"kV",14,"mGy",71.7,"mGy/s",4.8780000000000001,"mm",3,null,"USB",0,"","Hz","","s",null,null,"s",null,null,"Standard","Multi-Sensor","Diagnostic","General",3.7069999999999999,"mm",116.5,"kV",116.2,"kV",null,"mGy",null,null,1,null,null,0.57289999999999996,"s",null,null,null,null,null,null,null,null,null,null,null,null,null,null,null,null,null,null,null,null,null,null,null,null,null,null,null,null,null,null,null,null,null,null,116.5,"kV",null,"43-0001"]
[{"$f":"$A$3","v":116},{"$f":"$B$3","v":40},{"$f":"$C$3","v":500},{"$f":"$D$3","v":20},3,"2019-03-26T13:34:53.896",0.5,"s",116.5,"kV",14,"mGy",53.07,"mGy/s",4.8780000000000001,"mm",3,null,"USB",2,"","Hz","","s",null,null,"s",null,null,"Standard","Multi-Sensor","Diagnostic","General",3.7069999999999999,"mm",116.5,"kV",116.2,"kV",null,"mGy",null,null,1,null,null,0.46929999999999999,"s",null,null,null,null,null,null,null,null,null,null,null,null,null,null,null,null,null,null,null,null,null,null,null,null,null,null,null,null,null,null,null,null,null,null,116.5,"kV",null,"43-0001"]
[{"$f":"$A$3","v":116},{"$f":"$B$3","v":40},{"$f":"$C$3","v":500},{"$f":"$D$3","v":20},4,"2019-03-26T13:34:58.167",0.5,"s",116.5,"kV",14,"mGy",55.11,"mGy/s",4.8780000000000001,"mm",4,null,"USB",3,null,"Hz",null,"s",null,null,"s",null,null,"Standard","Multi-Sensor","Diagnostic","General",3.7069999999999999,"mm",116.5,"kV",116.2,"kV",null,"mGy",null,null,1,null,null,0.68489999999999995,"s",null,null,null,null,null,null,null,null,null,null,null,null,null,null,null,null,null,null,null,null,null,null,null,null,null,null,null,null,null,null,null,null,null,null,116.5,"kV",null,"43-0001"]
[{"$f":"$A$3","v":116},{"$f":"$B$3","v":40},{"$f":"$C$3","v":500},{"$f":"$D$3","v":20},5,"2019-03-26T13:35:02.649",0.5,"s",116.5,"kV",14,"mGy",58.5,"mGy/s",4.8780000000000001,"mm",3,null,"USB",3,null,"Hz",null,"s",null,null,"s",null,null,"Standard","Multi-Sensor","Diagnostic","General",3.7069999999999999,"mm",116.5,"kV",116.2,"kV",null,"mGy",null,null,1,null,null,0.50109999999999999,"s",null,null,null,null,null,null,null,null,null,null,null,null,null,null,null,null,null,null,null,null,null,null,null,null,null,null,null,null,null,null,null,null,null,null,116.5,"kV",null,"43-0001"]
[{"$f":"A3","v":116},{"$f":"$B$3","v":40},{"$f":"$C$3","v":500},{"$f":"$D$3","v":20},6,"2019-03-26T13:35:07.123",0.5,"s",116.5,"kV",14,"mGy",61.63,"mGy/s",4.8780000000000001,"mm",2,null,"USB",2,null,"Hz",null,"s",null,null,"s",null,null,"Standard","Multi-Sensor","Diagnostic","General",3.7069999999999999,"mm",116.5,"kV",116.2,"kV",null,"mGy",null,null,1,null,null,0.26569999999999999,"s",null,null,null,null,null,null,null,null,null,null,null,null,null,null,null,null,null,null,null,null,null,null,null,null,null,null,null,null,null,null,null,null,null,null,116.5,"kV",null,"43-0001"]
[{"$f":"A3","v":116},40,500,20,7,"2019-03-26T13:35:10.583",0.5,"s",116.5,"kV",14,"mGy",64.13,"mGy/s",4.8780000000000001,"mm",2,null,"USB",2,null,"Hz",null,"s",null,null,"s",null,null,"Standard","Multi-Sensor","Diagnostic","General",3.7069999999999999,"mm",116.5,"kV",116.2,"kV",null,"mGy",null,null,1,null,null,0.27600000000000002,"s",null,null,null,null,null,null,null,null,null,null,null,null,null,null,null,null,null,null,null,null,null,null,null,null,null,null,null,null,null,null,null,null,null,null,116.5,"kV",null,"43-0001"]
[{"$f":"A3","v":116},40,500,20,8,"2019-03-26T13:35:14.876",0.5,"s",116.5,"kV",14,"mGy",62.11,"mGy/s",4.8780000000000001,"mm",2,null,"USB",2,null,"Hz",null,"s",null,null,"s",null,null,"Standard","Multi-Sensor","Diagnostic","General",3.7069999999999999,"mm",116.5,"kV",116.2,"kV",null,"mGy",null,null,1,null,null,0.26950000000000002,"s",null,null,null,null,null,null,null,null,null,null,null,null,null,null,null,null,null,null,null,null,null,null,null,null,null,null,null,null,null,null,null,null,null,null,116.5,"kV",null,"43-0001"]
[{"$f":"A3","v":116},40,500,20,9,"2019-03-26T13:35:18.744",0.5,"s",116.5,"kV",14,"mGy",53.91,"mGy/s",4.8780000000000001,"mm",3,null,"USB",3,null,"Hz",null,"s",null,null,"s",null,null,"Standard","Multi-Sensor","Diagnostic","General",3.7069999999999999,"mm",116.5,"kV",116.2,"kV",null,"mGy",null,null,1,null,null,0.4098,"s",null,null,null,null,null,null,null,null,null,null,null,null,null,null,null,null,null,null,null,null,null,null,null,null,null,null,null,null,null,null,null,null,null,null,116.5,"kV",null,"43-0001"]
[{"$f":"A3","v":116},40,500,20,10,"2019-03-26T13:35:23.028",0.5,"s",116.5,"kV",14,"mGy",59.58,"mGy/s",4.8780000000000001,"mm",2,null,"USB",2,null,"Hz",null,"s",null,null,"s",null,null,"Standard","Multi-Sensor","Diagnostic","General",3.7069999999999999,"mm",116.5,"kV",116.2,"kV",null,"mGy",null,null,1,null,null,0.25790000000000002,"s",null,null,null,null,null,null,null,null,null,null,null,null,null,null,null,null,null,null,null,null,null,null,null,null,null,null,null,null,null,null,null,null,null,null,116.5,"kV",null,"43-0001"]
[{"$f":"A3","v":116},40,500,20,11,"2019-03-26T13:35:26.916",0.5,"s",116.5,"kV",14,"mGy",55.97,"mGy/s",4.8780000000000001,"mm",3,null,"USB",3,null,"Hz",null,"s",null,null,"s",null,null,"Standard","Multi-Sensor","Diagnostic","General",3.7069999999999999,"mm",116.5,"kV",116.2,"kV",null,"mGy",null,null,1,null,null,0.41610000000000003,"s",null,null,null,null,null,null,null,null,null,null,null,null,null,null,null,null,null,null,null,null,null,null,null,null,null,null,null,null,null,null,null,null,null,null,116.5,"kV",null,"43-0001"]
[{"$f":"A3","v":116},40,500,20,12,"2019-03-26T13:35:30.782",0.5,"s",116.5,"kV",14,"mGy",48.09,"mGy/s",4.8780000000000001,"mm",3,null,"USB",3,null,"Hz",null,"s",null,null,"s",null,null,"Standard","Multi-Sensor","Diagnostic","General",3.7069999999999999,"mm",116.5,"kV",116.2,"kV",null,"mGy",null,null,1,null,null,0.40529999999999999,"s",null,null,null,null,null,null,null,null,null,null,null,null,null,null,null,null,null,null,null,null,null,null,null,null,null,null,null,null,null,null,null,null,null,null,116.5,"kV",null,"43-0001"]
[{"$f":"A3","v":116},40,500,20,13,"2019-03-26T13:35:34.657",0.5,"s",116.5,"kV",14,"mGy",56.85,"mGy/s",4.8780000000000001,"mm",2,null,"USB",2,null,"Hz",null,"s",null,null,"s",null,null,"Standard","Multi-Sensor","Diagnostic","General",3.7069999999999999,"mm",116.5,"kV",116.2,"kV",null,"mGy",null,null,1,null,null,0.24829999999999999,"s",null,null,null,null,null,null,null,null,null,null,null,null,null,null,null,null,null,null,null,null,null,null,null,null,null,null,null,null,null,null,null,null,null,null,116.5,"kV",null,"43-0001"]
[{"$f":"A3","v":116},40,500,20,14,"2019-03-26T13:35:38.537",0.5,"s",116.5,"kV",14,"mGy",55.16,"mGy/s",4.8780000000000001,"mm",2,null,"USB",2,null,"Hz",null,"s",null,null,"s",null,null,"Standard","Multi-Sensor","Diagnostic","General",3.7069999999999999,"mm",116.5,"kV",116.2,"kV",null,"mGy",null,null,1,null,null,0.2399,"s",null,null,null,null,null,null,null,null,null,null,null,null,null,null,null,null,null,null,null,null,null,null,null,null,null,null,null,null,null,null,null,null,null,null,116.5,"kV",null,"43-0001"]
[{"$f":"A3","v":116},40,500,20,15,"2019-03-26T13:35:42.213",0.5,"s",116.5,"kV",14,"mGy",64.44,"mGy/s",4.8780000000000001,"mm",2,null,"USB",2,null,"Hz",null,"s",null,null,"s",null,null,"Standard","Multi-Sensor","Diagnostic","General",3.7069999999999999,"mm",116.5,"kV",116.2,"kV",null,"mGy",null,null,1,null,null,0.2702,"s",null,null,null,null,null,null,null,null,null,null,null,null,null,null,null,null,null,null,null,null,null,null,null,null,null,null,null,null,null,null,null,null,null,null,116.5,"kV",null,"43-0001"]
[]
[]
[]
["Tolerance",null,null,"Section"]
[]
["kVp Reproducibility",null,10,"Exp. 1-5"]
["Dose Reproducibility",null,10,"Exp. 1-5"]
["Timer Accuracy",null,10,"Exp. 1-5"]
["kVp Accuracy",null,10,"Exp. 6-15"]
[]
["Instructions"]
[]
["Open Accu-Gold 2 and activate companion mode. "]
[]
["Enter the user settings in cells A3, B3, C3, D3 on the \"MeasData; workbook."]
[]
["By default the Pass/Fail tolerance is set to 10% for all test sections, they can be changed in cells C23, C24, C25, C26 on the \"MeasData\" Workbook."]
[]
["Select cell E3 on the \"MeasData\" workbook then click the \"Get Cell\" button on AG2 then check the \"Auto-Send\" Box. The Format should be set to Accu-Gold. "]
[]
["Make sure the correct unit of measure is selected in AG2 prior to measuring.  "]
[]
["You can now click the \"Start\" button on AG2 and begin measuring. "]